BEGIN:VCALENDAR
VERSION:2.0
PRODID:icalendar-ruby
CALSCALE:GREGORIAN
METHOD:PUBLISH
BEGIN:VEVENT
DTSTAMP:20260420T105809Z
UID:9-1313433@landmarkapostolicchurch.com
DTSTART:20260924T000000Z
DTEND:20260924T013000Z
CLASS:PUBLIC
CREATED:20260420T025903
DESCRIPTION:
LAST-MODIFIED:20260420T025903
LOCATION:
SUMMARY:Midweek Bible Study
URL;VALUE=URI:https://www.landmarkapostolicchurch.com/events/midweek-bible-
 study/2026-09-23
ATTACH;FILENAME=854E4BB4-3912-4D6D-B7D4-F89221FC4647_1_105_c.jpeg;FMTTYPE=i
 mage/jpeg:https://dq5pwpg1q8ru0.cloudfront.net/2025/11/04/20/12/29/6a62fc1
 0-0feb-4eff-839a-562055170bac/854E4BB4-3912-4D6D-B7D4-F89221FC4647_1_105_c
 .jpeg
END:VEVENT
END:VCALENDAR
